BEGIN:VCALENDAR
PRODID:-//TYPO3/NONSGML News system (news)//EN
VERSION:2.0
BEGIN:VEVENT
DTSTAMP:20231031T211552
DTSTART;VALUE=DATE:20231125T130000
DTEND;VALUE=DATE:20231125T130000
SUMMARY:Nein zu Kriegen – Rüstungswahnsinn stoppen – Zukunft friedlich und gerecht gestalten
LOCATION:Berlin\,  Brandenburger Tor
UID:news-96987@www.linksfraktion.berlin
END:VEVENT
END:VCALENDAR