BEGIN:VCALENDAR
PRODID:-//TYPO3/NONSGML News system (news)//EN
VERSION:2.0
BEGIN:VEVENT
DTSTAMP:20231025T130618
DTSTART;VALUE=DATE:20231127T160000
DTEND;VALUE=DATE:20231127T180000
SUMMARY:Elif Eralp: Kostenlose rechtliche Erstberatung zum Antidiskriminierungs- und Aufenthaltsrecht
LOCATION:Wahlkreisbüro Elif Eralp, Zeughofstr. 22, 10997 Berlin
UID:news-96924@www.linksfraktion.berlin
END:VEVENT
END:VCALENDAR