BEGIN:VCALENDAR
PRODID:-//TYPO3/NONSGML News system (news)//EN
VERSION:2.0
BEGIN:VEVENT
DTSTAMP:20231113T145625
DTSTART;VALUE=DATE:20231214T100000
DTEND;VALUE=DATE:20231214T200000
SUMMARY:Plenum
LOCATION:Berlin\,  Abgeordnetenhaus
UID:news-97119@www.linksfraktion.berlin
END:VEVENT
END:VCALENDAR