BEGIN:VCALENDAR
PRODID:-//TYPO3/NONSGML News system (news)//EN
VERSION:2.0
BEGIN:VEVENT
DTSTAMP:20231103T100701
DTSTART;VALUE=DATE:20231130T100000
DTEND;VALUE=DATE:20231130T200000
SUMMARY:Plenum
LOCATION:Berlin\,  Abgeordnetenhaus
UID:news-97034@www.linksfraktion.berlin
END:VEVENT
END:VCALENDAR