BEGIN:VCALENDAR
PRODID:-//TYPO3/NONSGML News system (news)//EN
VERSION:2.0
BEGIN:VEVENT
DTSTAMP:20231026T130002
DTSTART;VALUE=DATE:20231212T110000
DTEND;VALUE=DATE:20231212T120000
SUMMARY:Gespräch mit Schüler*innen im Abgeordnetenhaus
LOCATION:Berlin\,  Abgeordnetenhaus
UID:news-96937@www.linksfraktion.berlin
END:VEVENT
END:VCALENDAR