BEGIN:VCALENDAR
PRODID:-//TYPO3/NONSGML News system (news)//EN
VERSION:2.0
BEGIN:VEVENT
DTSTAMP:20231010T185130
DTSTART;VALUE=DATE:20231208T160000
DTEND;VALUE=DATE:20231208T160000
SUMMARY:Jahrestreffen der Berliner Hospiz- und PalliativNetzwerke 
LOCATION:Gemeindesaal der evangelischen Kirchengemeinde Neu-Westend  
UID:news-96734@www.linksfraktion.berlin
END:VEVENT
END:VCALENDAR