BEGIN:VCALENDAR
PRODID:-//TYPO3/NONSGML News system (news)//EN
VERSION:2.0
BEGIN:VEVENT
DTSTAMP:20230612T093520
DTSTART;VALUE=DATE:20231213T120000
DTEND;VALUE=DATE:20231213T150000
SUMMARY:Bügersprechstunde / Telefonsprechstunde
LOCATION:Demminer Str 4, 13059 Berlin 
UID:news-90703@www.linksfraktion.berlin
END:VEVENT
END:VCALENDAR