BEGIN:VCALENDAR
PRODID:-//TYPO3/NONSGML News system (news)//EN
VERSION:2.0
BEGIN:VEVENT
DTSTAMP:20231108T132640
DTSTART;VALUE=DATE:20231207T160000
DTEND;VALUE=DATE:20231207T173000
SUMMARY:Sozial- und Mietenberatung mit Rechtsanwalt Kay Füßlein
LOCATION:Berlin\,  Wahlkreisbüro Seidel
UID:news-86861@www.linksfraktion.berlin
END:VEVENT
END:VCALENDAR