BEGIN:VCALENDAR
PRODID:-//TYPO3/NONSGML News system (news)//EN
VERSION:2.0
BEGIN:VEVENT
DTSTAMP:20231025T110413
DTSTART;VALUE=DATE:20231114T133000
DTEND;VALUE=DATE:20231114T133000
SUMMARY:Kostenlose Rechtsberatung in meinem Wahlkreisbüro

UID:news-95790@www.linksfraktion.berlin
END:VEVENT
END:VCALENDAR