BEGIN:VCALENDAR
PRODID:-//TYPO3/NONSGML News system (news)//EN
VERSION:2.0
BEGIN:VEVENT
DTSTAMP:20230912T111608
DTSTART;VALUE=DATE:20231212T133000
DTEND;VALUE=DATE:20231212T153000
SUMMARY:Kostenlose Rechtsberatung in meinem Wahlkreisbüro

UID:news-96356@www.linksfraktion.berlin
END:VEVENT
END:VCALENDAR