BEGIN:VCALENDAR
PRODID:-//TYPO3/NONSGML News system (news)//EN
VERSION:2.0
BEGIN:VEVENT
DTSTAMP:20230927T182327
DTSTART;VALUE=DATE:20231122T170000
DTEND;VALUE=DATE:20231122T190000
SUMMARY:Bürgersprechstunde: im Bürgerbüro Hirschgarten

UID:news-96588@www.linksfraktion.berlin
END:VEVENT
END:VCALENDAR