BEGIN:VCALENDAR
PRODID:-//TYPO3/NONSGML News system (news)//EN
VERSION:2.0
BEGIN:VEVENT
DTSTAMP:20230927T182430
DTSTART;VALUE=DATE:20231220T170000
DTEND;VALUE=DATE:20231220T190000
SUMMARY:Bürgersprechstunde: im Bürgerbüro Hirschgarten

UID:news-96589@www.linksfraktion.berlin
END:VEVENT
END:VCALENDAR