BEGIN:VCALENDAR
PRODID:-//TYPO3/NONSGML News system (news)//EN
VERSION:2.0
BEGIN:VEVENT
DTSTAMP:20230927T182823
DTSTART;VALUE=DATE:20231206T170000
DTEND;VALUE=DATE:20231206T190000
SUMMARY:Bürgersprechstunde: im Tanriverdis

UID:news-96590@www.linksfraktion.berlin
END:VEVENT
END:VCALENDAR