BEGIN:VCALENDAR
PRODID:-//TYPO3/NONSGML News system (news)//EN
VERSION:2.0
BEGIN:VEVENT
DTSTAMP:20231113T164726
DTSTART;VALUE=DATE:20231124T100000
DTEND;VALUE=DATE:20231124T100000
SUMMARY:Offenes Kiezfrühstück

UID:news-96357@www.linksfraktion.berlin
END:VEVENT
END:VCALENDAR