BEGIN:VCALENDAR
PRODID:-//TYPO3/NONSGML News system (news)//EN
VERSION:2.0
BEGIN:VEVENT
DTSTAMP:20231102T164643
DTSTART;VALUE=DATE:20231120T160000
DTEND;VALUE=DATE:20231120T170000
SUMMARY:Wahlkreissprechstunde
LOCATION:Berlin\,  Bürgerbüro Hendrikje Klein
UID:news-60561@www.linksfraktion.berlin
END:VEVENT
END:VCALENDAR