BEGIN:VCALENDAR
PRODID:-//TYPO3/NONSGML News system (news)//EN
VERSION:2.0
BEGIN:VEVENT
DTSTAMP:20231108T154410
DTSTART;VALUE=DATE:20231127T180000
DTEND;VALUE=DATE:20231127T210000
SUMMARY:11. Sitzung des Beteiligungsbeirats
LOCATION:Stadtwerkstatt am Alexanderplatz  Karl-Liebknecht-Str. 11, 10178 Berlin
UID:news-97106@www.linksfraktion.berlin
END:VEVENT
END:VCALENDAR