BEGIN:VCALENDAR
PRODID:-//TYPO3/NONSGML News system (news)//EN
VERSION:2.0
BEGIN:VEVENT
DTSTAMP:20231109T121304
DTSTART;VALUE=DATE:20231120T140000
DTEND;VALUE=DATE:20231120T170000
SUMMARY:Ausschuss für Kultur, Engagement und Demokratieförderung
LOCATION:Berlin\,  Abgeordnetenhaus
UID:news-96399@www.linksfraktion.berlin
END:VEVENT
END:VCALENDAR