BEGIN:VCALENDAR
PRODID:-//TYPO3/NONSGML News system (news)//EN
VERSION:2.0
BEGIN:VEVENT
DTSTAMP:20231109T121137
DTSTART;VALUE=DATE:20231120T093000
DTEND;VALUE=DATE:20231120T123000
SUMMARY:Ausschuss für Gesundheit und Pflege
LOCATION:Berlin\,  Abgeordnetenhaus
UID:news-96398@www.linksfraktion.berlin
END:VEVENT
END:VCALENDAR