BEGIN:VCALENDAR
PRODID:-//TYPO3/NONSGML News system (news)//EN
VERSION:2.0
BEGIN:VEVENT
DTSTAMP:20231108T144317
DTSTART;VALUE=DATE:20231128T183000
DTEND;VALUE=DATE:20231128T200000
SUMMARY:Hendrikje Klein und der Ortsverband 7 der Die LINKE Lichtenberg: bei Hendrikje: Schatten der Gesellschaft – Die Obdachlosen vom Bahnhof Lichtenberg
LOCATION:oskar | freiwilligenagentur lichtenberg, Weitlingstraße 89
UID:news-94492@www.linksfraktion.berlin
END:VEVENT
END:VCALENDAR