BEGIN:VCALENDAR
PRODID:-//TYPO3/NONSGML News system (news)//EN
VERSION:2.0
BEGIN:VEVENT
DTSTAMP:20231009T112436
DTSTART;VALUE=DATE:20231116T100000
DTEND;VALUE=DATE:20231116T200000
SUMMARY:Plenum
LOCATION:Berlin\,  Abgeordnetenhaus
UID:news-96681@www.linksfraktion.berlin
END:VEVENT
END:VCALENDAR