BEGIN:VCALENDAR
PRODID:-//TYPO3/NONSGML News system (news)//EN
VERSION:2.0
BEGIN:VEVENT
DTSTAMP:20230808T104138
DTSTART;VALUE=DATE:20231117T123000
DTEND;VALUE=DATE:20231117T140000
SUMMARY:FU Berlin/ Fachbereich Politik- und Sozialwissenschaften: Berufspraxistag HEUREKA an der FU Berlin
LOCATION:Ihnestr. 21, 14195
UID:news-95823@www.linksfraktion.berlin
END:VEVENT
END:VCALENDAR