BEGIN:VCALENDAR
PRODID:-//TYPO3/NONSGML News system (news)//EN
VERSION:2.0
BEGIN:VEVENT
DTSTAMP:20231010T114642
DTSTART;VALUE=DATE:20231108T160000
DTEND;VALUE=DATE:20231108T160000
SUMMARY:Führung durch die Dauerausstellung im Haus der Wannseekonferenz

UID:news-96729@www.linksfraktion.berlin
END:VEVENT
END:VCALENDAR