BEGIN:VCALENDAR
PRODID:-//TYPO3/NONSGML News system (news)//EN
VERSION:2.0
BEGIN:VEVENT
DTSTAMP:20231026T164714
DTSTART;VALUE=DATE:20231120T163000
DTEND;VALUE=DATE:20231120T190000
SUMMARY:IB Berlin-Brandenburg GmbH: Beratung der Landeskuratorien Berlin und Brandenburg der IB Berlin-Brandenburg
LOCATION:Berlin\,  Abgeordnetenhaus
UID:news-96349@www.linksfraktion.berlin
END:VEVENT
END:VCALENDAR