BEGIN:VCALENDAR
PRODID:-//TYPO3/NONSGML News system (news)//EN
VERSION:2.0
BEGIN:VEVENT
DTSTAMP:20231114T145745
DTSTART;VALUE=DATE:20231123T190000
DTEND;VALUE=DATE:20231123T190000
SUMMARY:Lasst uns reden - Gesundheit ist keine Ware!
LOCATION:Berlin\,  Kiezbüro Sebastian Scheel
UID:news-96958@www.linksfraktion.berlin
END:VEVENT
END:VCALENDAR