BEGIN:VCALENDAR
PRODID:-//TYPO3/NONSGML News system (news)//EN
VERSION:2.0
BEGIN:VEVENT
DTSTAMP:20230904T160741
DTSTART;VALUE=DATE:20231123T150000
DTEND;VALUE=DATE:20231123T170000
SUMMARY:Sozialberatung mit Doris Hammer
LOCATION:Berlin\,  Kiezbüro Sebastian Scheel
UID:news-96127@www.linksfraktion.berlin
END:VEVENT
END:VCALENDAR