BEGIN:VCALENDAR
PRODID:-//TYPO3/NONSGML News system (news)//EN
VERSION:2.0
BEGIN:VEVENT
DTSTAMP:20230824T121139
DTSTART;VALUE=DATE:20231204T160000
DTEND;VALUE=DATE:20231204T180000
SUMMARY:Sprechstunde mit Elisabeth Wissel, Bezirksverordnete in Tempelhof-Schöneberg
LOCATION:Kiezbüro Sebastian Scheel, Kaiserin-Augusta-Str. 75, 12103 Berlin
UID:news-96114@www.linksfraktion.berlin
END:VEVENT
END:VCALENDAR