BEGIN:VCALENDAR
PRODID:-//TYPO3/NONSGML News system (news)//EN
VERSION:2.0
BEGIN:VEVENT
DTSTAMP:20231012T110246
DTSTART;VALUE=DATE:20231122T160000
DTEND;VALUE=DATE:20231122T180000
SUMMARY:Sprechstunde mit Elke Breitenbach
LOCATION:Abgeordnetenbüro Weydingerstraße 14-16,10178 Berlin
UID:news-96581@www.linksfraktion.berlin
END:VEVENT
END:VCALENDAR