BEGIN:VCALENDAR
PRODID:-//TYPO3/NONSGML News system (news)//EN
VERSION:2.0
BEGIN:VEVENT
DTSTAMP:20230626T144442
DTSTART;VALUE=DATE:20230628T193000
DTEND;VALUE=DATE:20230628T213000
SUMMARY:Lauterbachs Krankenhausreform – Kahlschlag in der Berliner Gesundheitsversorgung?

UID:news-95153@www.linksfraktion.berlin
END:VEVENT
END:VCALENDAR