BEGIN:VCALENDAR
PRODID:-//TYPO3/NONSGML News system (news)//EN
VERSION:2.0
BEGIN:VEVENT
DTSTAMP:20230208T111207
DTSTART;VALUE=DATE:20230207T190000
DTEND;VALUE=DATE:20230207T210000
SUMMARY:Signa-Tribunal 

UID:news-93405@www.linksfraktion.berlin
END:VEVENT
END:VCALENDAR